BEGIN:VCALENDAR
VERSION:2.0
PRODID:-//Cycle Chesterfield - ECPv6.15.20//NONSGML v1.0//EN
CALSCALE:GREGORIAN
METHOD:PUBLISH
X-ORIGINAL-URL:https://www.cyclechesterfield.org
X-WR-CALDESC:Events for Cycle Chesterfield
REFRESH-INTERVAL;VALUE=DURATION:PT1H
X-Robots-Tag:noindex
X-PUBLISHED-TTL:PT1H
BEGIN:VTIMEZONE
TZID:Europe/London
BEGIN:DAYLIGHT
TZOFFSETFROM:+0000
TZOFFSETTO:+0100
TZNAME:BST
DTSTART:20250330T010000
END:DAYLIGHT
BEGIN:STANDARD
TZOFFSETFROM:+0100
TZOFFSETTO:+0000
TZNAME:GMT
DTSTART:20251026T010000
END:STANDARD
BEGIN:DAYLIGHT
TZOFFSETFROM:+0000
TZOFFSETTO:+0100
TZNAME:BST
DTSTART:20260329T010000
END:DAYLIGHT
BEGIN:STANDARD
TZOFFSETFROM:+0100
TZOFFSETTO:+0000
TZNAME:GMT
DTSTART:20261025T010000
END:STANDARD
BEGIN:DAYLIGHT
TZOFFSETFROM:+0000
TZOFFSETTO:+0100
TZNAME:BST
DTSTART:20270328T010000
END:DAYLIGHT
BEGIN:STANDARD
TZOFFSETFROM:+0100
TZOFFSETTO:+0000
TZNAME:GMT
DTSTART:20271031T010000
END:STANDARD
END:VTIMEZONE
BEGIN:VEVENT
DTSTART;TZID=Europe/London:20260310T190000
DTEND;TZID=Europe/London:20260310T200000
DTSTAMP:20260420T070245
CREATED:20260302T081701Z
LAST-MODIFIED:20260302T090311Z
UID:24075-1773169200-1773172800@www.cyclechesterfield.org
SUMMARY:Members Meeting - with Alan Simpson
DESCRIPTION:We are looking forward to welcoming the East Midlands Sustainable Travel Ambassador\, Alan Simpson. Alan is an advocate for active and sustainable travel for the East Midlands Mayoral Authority. The Authority has a significant transport budget with the potential to transform sustainable transport schemes and active travel across the region including in Chesterfield. Alan will be taking questions from members after his talk. Please come along and find out more. \n\n\n\nThere will also be a brief round up of Cycle Chesterfield activity as well as the launch of our Chesterfield Cycle Audit Report.
URL:https://www.cyclechesterfield.org/event/members-meeting-2/
LOCATION:St Thomas Centre\, Chatsworth Road\, Chesterfield\, S403AW\, United Kingdom
ORGANIZER;CN="Cycle Chesterfield":MAILTO:rides@cyclechesterfield.org
END:VEVENT
BEGIN:VEVENT
DTSTART;TZID=Europe/London:20260321T100000
DTEND;TZID=Europe/London:20260321T120000
DTSTAMP:20260420T070245
CREATED:20260302T081948Z
LAST-MODIFIED:20260318T223210Z
UID:24080-1774087200-1774094400@www.cyclechesterfield.org
SUMMARY:Saturday Ride to Happy Hens
DESCRIPTION:A short easy social ride to blow off the winter cobwebs. It’s suitable for all (level 1) setting off from Queens Park Cafe at 10am on Saturday\, heading up the Holme Brook Trail and then across to Chatsworth Road and up to Adam’s Happy Hens for a short stop (drinks and cakes optional) before returning to Queens Park via Walton Dam.  \n\n\n\nMostly off road with a few short road sections. Children must be accompanied by an adult
URL:https://www.cyclechesterfield.org/event/saturday-ride/
LOCATION:Queen’s Park Cafe\, North Lodge\, Park Road\, Chesterfield\, S40 2LP\, United Kingdom
ORGANIZER;CN="Cycle Chesterfield":MAILTO:rides@cyclechesterfield.org
END:VEVENT
END:VCALENDAR